BEGIN:VCALENDAR
VERSION:2.0
PRODID:-//Pfarreiengemeinschaft – Schnaittenbach / Kemnath a. B. - ECPv6.15.20//NONSGML v1.0//EN
CALSCALE:GREGORIAN
METHOD:PUBLISH
X-WR-CALNAME:Pfarreiengemeinschaft – Schnaittenbach / Kemnath a. B.
X-ORIGINAL-URL:https://www.pfarreiengemeinschaft-schnaittenbach-kemnath.org
X-WR-CALDESC:Veranstaltungen für Pfarreiengemeinschaft – Schnaittenbach / Kemnath a. B.
REFRESH-INTERVAL;VALUE=DURATION:PT1H
X-Robots-Tag:noindex
X-PUBLISHED-TTL:PT1H
BEGIN:VTIMEZONE
TZID:Europe/Berlin
BEGIN:DAYLIGHT
TZOFFSETFROM:+0100
TZOFFSETTO:+0200
TZNAME:CEST
DTSTART:20250330T010000
END:DAYLIGHT
BEGIN:STANDARD
TZOFFSETFROM:+0200
TZOFFSETTO:+0100
TZNAME:CET
DTSTART:20251026T010000
END:STANDARD
BEGIN:DAYLIGHT
TZOFFSETFROM:+0100
TZOFFSETTO:+0200
TZNAME:CEST
DTSTART:20260329T010000
END:DAYLIGHT
BEGIN:STANDARD
TZOFFSETFROM:+0200
TZOFFSETTO:+0100
TZNAME:CET
DTSTART:20261025T010000
END:STANDARD
BEGIN:DAYLIGHT
TZOFFSETFROM:+0100
TZOFFSETTO:+0200
TZNAME:CEST
DTSTART:20270328T010000
END:DAYLIGHT
BEGIN:STANDARD
TZOFFSETFROM:+0200
TZOFFSETTO:+0100
TZNAME:CET
DTSTART:20271031T010000
END:STANDARD
END:VTIMEZONE
BEGIN:VEVENT
DTSTART;TZID=Europe/Berlin:20260301T100000
DTEND;TZID=Europe/Berlin:20260711T110000
DTSTAMP:20260422T144154
CREATED:20260316T185109Z
LAST-MODIFIED:20260316T185516Z
UID:2750-1772359200-1783767600@www.pfarreiengemeinschaft-schnaittenbach-kemnath.org
SUMMARY:Familiengottesdienst
DESCRIPTION:
URL:https://www.pfarreiengemeinschaft-schnaittenbach-kemnath.org/veranstaltung/familiengottesdienst-13/
LOCATION:Pfarrkirche St. Vitus Schnaittenbach
END:VEVENT
BEGIN:VEVENT
DTSTART;TZID=Europe/Berlin:20260426T100000
DTEND;TZID=Europe/Berlin:20260426T110000
DTSTAMP:20260422T144154
CREATED:20260316T184949Z
LAST-MODIFIED:20260316T184949Z
UID:2744-1777197600-1777201200@www.pfarreiengemeinschaft-schnaittenbach-kemnath.org
SUMMARY:Familiengottesdienst
DESCRIPTION:
URL:https://www.pfarreiengemeinschaft-schnaittenbach-kemnath.org/veranstaltung/familiengottesdienst-10/
LOCATION:Pfarrkirche St. Vitus Schnaittenbach
END:VEVENT
BEGIN:VEVENT
DTSTART;TZID=Europe/Berlin:20260503T100000
DTEND;TZID=Europe/Berlin:20260503T113000
DTSTAMP:20260422T144154
CREATED:20260316T183652Z
LAST-MODIFIED:20260316T183652Z
UID:2710-1777802400-1777807800@www.pfarreiengemeinschaft-schnaittenbach-kemnath.org
SUMMARY:Fest anlässlich der 1. Hl. Kommunion
DESCRIPTION:
URL:https://www.pfarreiengemeinschaft-schnaittenbach-kemnath.org/veranstaltung/fest-anlaesslich-der-1-hl-kommunion/
LOCATION:Pfarrkirche St. Vitus Schnaittenbach
END:VEVENT
BEGIN:VEVENT
DTSTART;TZID=Europe/Berlin:20260508T170000
DTEND;TZID=Europe/Berlin:20260508T173000
DTSTAMP:20260422T144154
CREATED:20260316T184630Z
LAST-MODIFIED:20260316T184630Z
UID:2732-1778259600-1778261400@www.pfarreiengemeinschaft-schnaittenbach-kemnath.org
SUMMARY:Kinderkirche
DESCRIPTION:
URL:https://www.pfarreiengemeinschaft-schnaittenbach-kemnath.org/veranstaltung/kinderkirche-5/
LOCATION:St. Wolfgang Holzhammer
END:VEVENT
BEGIN:VEVENT
DTSTART;TZID=Europe/Berlin:20260511T180000
DTEND;TZID=Europe/Berlin:20260511T200000
DTSTAMP:20260422T144154
CREATED:20260316T183827Z
LAST-MODIFIED:20260316T183827Z
UID:2712-1778522400-1778529600@www.pfarreiengemeinschaft-schnaittenbach-kemnath.org
SUMMARY:Bittgang Holzhammer-Neuersdorf
DESCRIPTION:
URL:https://www.pfarreiengemeinschaft-schnaittenbach-kemnath.org/veranstaltung/bittgang-holzhammer-neuersdorf/
LOCATION:Holzhammer und Neuersdorf
END:VEVENT
BEGIN:VEVENT
DTSTART;TZID=Europe/Berlin:20260512T183000
DTEND;TZID=Europe/Berlin:20260512T193000
DTSTAMP:20260422T144154
CREATED:20260316T183910Z
LAST-MODIFIED:20260316T183910Z
UID:2715-1778610600-1778614200@www.pfarreiengemeinschaft-schnaittenbach-kemnath.org
SUMMARY:Ökumenischer Bittgang
DESCRIPTION:
URL:https://www.pfarreiengemeinschaft-schnaittenbach-kemnath.org/veranstaltung/oekumenischer-bittgang-3/
END:VEVENT
BEGIN:VEVENT
DTSTART;TZID=Europe/Berlin:20260513T190000
DTEND;TZID=Europe/Berlin:20260513T190000
DTSTAMP:20260422T144154
CREATED:20260316T184044Z
LAST-MODIFIED:20260316T184044Z
UID:2719-1778698800-1778698800@www.pfarreiengemeinschaft-schnaittenbach-kemnath.org
SUMMARY:Bittgang zur Sebastanikapelle
DESCRIPTION:
URL:https://www.pfarreiengemeinschaft-schnaittenbach-kemnath.org/veranstaltung/bittgang-zur-sebastanikapelle/
LOCATION:Sebastianikapelle Kemnath a. B.
END:VEVENT
BEGIN:VEVENT
DTSTART;TZID=Europe/Berlin:20260514T083000
DTEND;TZID=Europe/Berlin:20260514T110000
DTSTAMP:20260422T144155
CREATED:20260316T184126Z
LAST-MODIFIED:20260316T184126Z
UID:2722-1778747400-1778756400@www.pfarreiengemeinschaft-schnaittenbach-kemnath.org
SUMMARY:Christi Himmelfahrt
DESCRIPTION:
URL:https://www.pfarreiengemeinschaft-schnaittenbach-kemnath.org/veranstaltung/christi-himmelfahrt/
LOCATION:St. Wolfgang Holzhammer
END:VEVENT
BEGIN:VEVENT
DTSTART;VALUE=DATE:20260517
DTEND;VALUE=DATE:20260518
DTSTAMP:20260422T144155
CREATED:20260316T184216Z
LAST-MODIFIED:20260316T184216Z
UID:2724-1778976000-1779062399@www.pfarreiengemeinschaft-schnaittenbach-kemnath.org
SUMMARY:Pfarrfest St. Vitus
DESCRIPTION:
URL:https://www.pfarreiengemeinschaft-schnaittenbach-kemnath.org/veranstaltung/pfarrfest-st-vitus/
LOCATION:Vitusheim\, Bischof-Rosner-Platz 1\, Schnaittenbach
END:VEVENT
BEGIN:VEVENT
DTSTART;TZID=Europe/Berlin:20260517T100000
DTEND;TZID=Europe/Berlin:20260517T110000
DTSTAMP:20260422T144155
CREATED:20260316T185015Z
LAST-MODIFIED:20260316T185015Z
UID:2746-1779012000-1779015600@www.pfarreiengemeinschaft-schnaittenbach-kemnath.org
SUMMARY:Familiengottesdienst
DESCRIPTION:
URL:https://www.pfarreiengemeinschaft-schnaittenbach-kemnath.org/veranstaltung/familiengottesdienst-11/
LOCATION:Pfarrkirche St. Vitus Schnaittenbach
END:VEVENT
BEGIN:VEVENT
DTSTART;VALUE=DATE:20260522
DTEND;VALUE=DATE:20260523
DTSTAMP:20260422T144155
CREATED:20260316T184250Z
LAST-MODIFIED:20260316T184250Z
UID:2726-1779408000-1779494399@www.pfarreiengemeinschaft-schnaittenbach-kemnath.org
SUMMARY:Firmung
DESCRIPTION:
URL:https://www.pfarreiengemeinschaft-schnaittenbach-kemnath.org/veranstaltung/firmung/
LOCATION:Pfarrkirche St. Vitus Schnaittenbach
END:VEVENT
BEGIN:VEVENT
DTSTART;VALUE=DATE:20260525
DTEND;VALUE=DATE:20260526
DTSTAMP:20260422T144155
CREATED:20260316T184326Z
LAST-MODIFIED:20260316T184326Z
UID:2728-1779667200-1779753599@www.pfarreiengemeinschaft-schnaittenbach-kemnath.org
SUMMARY:Pfingstritt
DESCRIPTION:
URL:https://www.pfarreiengemeinschaft-schnaittenbach-kemnath.org/veranstaltung/pfingstritt/
LOCATION:Pfarrkirche St. Margareta Kemnath
END:VEVENT
BEGIN:VEVENT
DTSTART;TZID=Europe/Berlin:20260604T083000
DTEND;TZID=Europe/Berlin:20260604T120000
DTSTAMP:20260422T144155
CREATED:20260316T185625Z
LAST-MODIFIED:20260316T185625Z
UID:2760-1780561800-1780574400@www.pfarreiengemeinschaft-schnaittenbach-kemnath.org
SUMMARY:Fronleichnam mit Prozession
DESCRIPTION:
URL:https://www.pfarreiengemeinschaft-schnaittenbach-kemnath.org/veranstaltung/fronleichnam-mit-prozession/
LOCATION:Pfarrkirche St. Vitus Schnaittenbach
END:VEVENT
BEGIN:VEVENT
DTSTART;VALUE=DATE:20260607
DTEND;VALUE=DATE:20260608
DTSTAMP:20260422T144155
CREATED:20260316T185706Z
LAST-MODIFIED:20260316T185706Z
UID:2762-1780790400-1780876799@www.pfarreiengemeinschaft-schnaittenbach-kemnath.org
SUMMARY:Fronleichnam mit anschl. Pfarrfest
DESCRIPTION:
URL:https://www.pfarreiengemeinschaft-schnaittenbach-kemnath.org/veranstaltung/fronleichnam-mit-anschl-pfarrfest/
LOCATION:Pfarrkirche St. Margareta Kemnath
END:VEVENT
BEGIN:VEVENT
DTSTART;VALUE=DATE:20260612
DTEND;VALUE=DATE:20260613
DTSTAMP:20260422T144155
CREATED:20260316T185746Z
LAST-MODIFIED:20260316T185746Z
UID:2764-1781222400-1781308799@www.pfarreiengemeinschaft-schnaittenbach-kemnath.org
SUMMARY:Patroziniumsfest
DESCRIPTION:
URL:https://www.pfarreiengemeinschaft-schnaittenbach-kemnath.org/veranstaltung/patroziniumsfest/
LOCATION:Neuersdorf
END:VEVENT
BEGIN:VEVENT
DTSTART;TZID=Europe/Berlin:20260620T190000
DTEND;TZID=Europe/Berlin:20260620T210000
DTSTAMP:20260422T144155
CREATED:20260313T160126Z
LAST-MODIFIED:20260313T160126Z
UID:2684-1781982000-1781989200@www.pfarreiengemeinschaft-schnaittenbach-kemnath.org
SUMMARY:Regensburger Domspatzen
DESCRIPTION:
URL:https://www.pfarreiengemeinschaft-schnaittenbach-kemnath.org/veranstaltung/regensburger-domspatzen/
LOCATION:Pfarrkirche St. Vitus Schnaittenbach
END:VEVENT
BEGIN:VEVENT
DTSTART;TZID=Europe/Berlin:20260621T100000
DTEND;TZID=Europe/Berlin:20260621T110000
DTSTAMP:20260422T144155
CREATED:20260316T185041Z
LAST-MODIFIED:20260316T185041Z
UID:2748-1782036000-1782039600@www.pfarreiengemeinschaft-schnaittenbach-kemnath.org
SUMMARY:Familiengottesdienst
DESCRIPTION:
URL:https://www.pfarreiengemeinschaft-schnaittenbach-kemnath.org/veranstaltung/familiengottesdienst-12/
LOCATION:Pfarrkirche St. Vitus Schnaittenbach
END:VEVENT
BEGIN:VEVENT
DTSTART;TZID=Europe/Berlin:20260626T170000
DTEND;TZID=Europe/Berlin:20260626T173000
DTSTAMP:20260422T144155
CREATED:20260316T184659Z
LAST-MODIFIED:20260316T184659Z
UID:2734-1782493200-1782495000@www.pfarreiengemeinschaft-schnaittenbach-kemnath.org
SUMMARY:Kinderkirche
DESCRIPTION:
URL:https://www.pfarreiengemeinschaft-schnaittenbach-kemnath.org/veranstaltung/kinderkirche-6/
LOCATION:Pfarrkirche St. Vitus Schnaittenbach
END:VEVENT
BEGIN:VEVENT
DTSTART;TZID=Europe/Berlin:20260710T170000
DTEND;TZID=Europe/Berlin:20260710T173000
DTSTAMP:20260422T144155
CREATED:20260316T184729Z
LAST-MODIFIED:20260316T184729Z
UID:2736-1783702800-1783704600@www.pfarreiengemeinschaft-schnaittenbach-kemnath.org
SUMMARY:Kinderkirche
DESCRIPTION:
URL:https://www.pfarreiengemeinschaft-schnaittenbach-kemnath.org/veranstaltung/kinderkirche-7/
LOCATION:St. Wolfgang Holzhammer
END:VEVENT
BEGIN:VEVENT
DTSTART;TZID=Europe/Berlin:20260726T100000
DTEND;TZID=Europe/Berlin:20260726T110000
DTSTAMP:20260422T144155
CREATED:20260316T185317Z
LAST-MODIFIED:20260316T185317Z
UID:2757-1785060000-1785063600@www.pfarreiengemeinschaft-schnaittenbach-kemnath.org
SUMMARY:Familiengottesdienst
DESCRIPTION:
URL:https://www.pfarreiengemeinschaft-schnaittenbach-kemnath.org/veranstaltung/familiengottesdienst-16/
LOCATION:Pfarrkirche St. Vitus Schnaittenbach
END:VEVENT
BEGIN:VEVENT
DTSTART;TZID=Europe/Berlin:20260918T170000
DTEND;TZID=Europe/Berlin:20260918T173000
DTSTAMP:20260422T144155
CREATED:20260316T184806Z
LAST-MODIFIED:20260316T184806Z
UID:2738-1789750800-1789752600@www.pfarreiengemeinschaft-schnaittenbach-kemnath.org
SUMMARY:Kinderkirche
DESCRIPTION:
URL:https://www.pfarreiengemeinschaft-schnaittenbach-kemnath.org/veranstaltung/kinderkirche-8/
LOCATION:Pfarrkirche St. Vitus Schnaittenbach
END:VEVENT
BEGIN:VEVENT
DTSTART;TZID=Europe/Berlin:20260927T100000
DTEND;TZID=Europe/Berlin:20260927T110000
DTSTAMP:20260422T144155
CREATED:20260316T185137Z
LAST-MODIFIED:20260316T185137Z
UID:2752-1790503200-1790506800@www.pfarreiengemeinschaft-schnaittenbach-kemnath.org
SUMMARY:Familiengottesdienst
DESCRIPTION:
URL:https://www.pfarreiengemeinschaft-schnaittenbach-kemnath.org/veranstaltung/familiengottesdienst-14/
LOCATION:Pfarrkirche St. Vitus Schnaittenbach
END:VEVENT
BEGIN:VEVENT
DTSTART;TZID=Europe/Berlin:20261016T170000
DTEND;TZID=Europe/Berlin:20261016T173000
DTSTAMP:20260422T144155
CREATED:20260316T184838Z
LAST-MODIFIED:20260316T184838Z
UID:2740-1792170000-1792171800@www.pfarreiengemeinschaft-schnaittenbach-kemnath.org
SUMMARY:Kinderkirche
DESCRIPTION:
URL:https://www.pfarreiengemeinschaft-schnaittenbach-kemnath.org/veranstaltung/kinderkirche-9/
LOCATION:St. Wolfgang Holzhammer
END:VEVENT
BEGIN:VEVENT
DTSTART;TZID=Europe/Berlin:20261108T100000
DTEND;TZID=Europe/Berlin:20261108T110000
DTSTAMP:20260422T144155
CREATED:20260316T185207Z
LAST-MODIFIED:20260316T185207Z
UID:2754-1794132000-1794135600@www.pfarreiengemeinschaft-schnaittenbach-kemnath.org
SUMMARY:Familiengottesdienst
DESCRIPTION:
URL:https://www.pfarreiengemeinschaft-schnaittenbach-kemnath.org/veranstaltung/familiengottesdienst-15/
LOCATION:Pfarrkirche St. Vitus Schnaittenbach
END:VEVENT
BEGIN:VEVENT
DTSTART;TZID=Europe/Berlin:20261120T170000
DTEND;TZID=Europe/Berlin:20261120T173000
DTSTAMP:20260422T144155
CREATED:20260316T184912Z
LAST-MODIFIED:20260316T184912Z
UID:2742-1795194000-1795195800@www.pfarreiengemeinschaft-schnaittenbach-kemnath.org
SUMMARY:Kinderkirche
DESCRIPTION:
URL:https://www.pfarreiengemeinschaft-schnaittenbach-kemnath.org/veranstaltung/kinderkirche-10/
LOCATION:Pfarrkirche St. Vitus Schnaittenbach
END:VEVENT
END:VCALENDAR